BEGIN:VCALENDAR
VERSION:2.0
PRODID:-//pretix//ItWikiCon_Ticketing//
BEGIN:VTIMEZONE
TZID:Europe/Rome
BEGIN:STANDARD
DTSTART:20001029T040000
RRULE:FREQ=YEARLY;BYDAY=-1SU;BYMONTH=10
TZNAME:CET
TZOFFSETFROM:+0200
TZOFFSETTO:+0100
END:STANDARD
BEGIN:DAYLIGHT
DTSTART:20000326T030000
RRULE:FREQ=YEARLY;BYDAY=-1SU;BYMONTH=3
TZNAME:CEST
TZOFFSETFROM:+0100
TZOFFSETTO:+0200
END:DAYLIGHT
END:VTIMEZONE
BEGIN:VEVENT
UID:pretix-sicilia-wmhackpalermo-0@ticket.itwikicon.org
DTSTART;TZID=Europe/Rome:20250314T090000
DTEND;TZID=Europe/Rome:20250316T160000
DESCRIPTION:Tickets: https://ticket.itwikicon.org/sicilia/wmhackpalermo/\nO
 rganizer: WikiSicilia
DTSTAMP:20260424T213937Z
LOCATION:Neu Noi\, via Alloro 64\, 90133 Palermo
SUMMARY:Hackathon Wikimedia 2025 a Palermo
END:VEVENT
END:VCALENDAR
